Package: RbcBook1 Version: 1.79.0 Command: /home/biocbuild/bbs-3.23-bioc/R/bin/R CMD build --keep-empty-dirs --no-resave-data RbcBook1 StartedAt: 2025-11-04 19:24:13 -0500 (Tue, 04 Nov 2025) EndedAt: 2025-11-04 19:24:22 -0500 (Tue, 04 Nov 2025) EllapsedTime: 9.0 seconds RetCode: 0 Status: OK PackageFile: RbcBook1_1.79.0.tar.gz PackageFileSize: 6.412 MiB