Package: Rarr Version: 1.11.5 Command: /home/biocbuild/bbs-3.23-bioc/R/bin/R CMD INSTALL Rarr StartedAt: 2025-11-18 16:08:15 -0500 (Tue, 18 Nov 2025) EndedAt: 2025-11-18 16:09:18 -0500 (Tue, 18 Nov 2025) EllapsedTime: 63.4 seconds RetCode: 0 Status: OK