Package: Rarr Version: 1.11.5 Command: /home/biocbuild/bbs-3.23-bioc/R/bin/R CMD build --keep-empty-dirs --no-resave-data Rarr StartedAt: 2025-11-18 20:20:45 -0500 (Tue, 18 Nov 2025) EndedAt: 2025-11-18 20:22:16 -0500 (Tue, 18 Nov 2025) EllapsedTime: 91.1 seconds RetCode: 0 Status: OK PackageFile: Rarr_1.11.5.tar.gz PackageFileSize: 1.598 MiB