Package: Rarr Version: 1.9.18 Command: /Library/Frameworks/R.framework/Resources/bin/R CMD INSTALL Rarr StartedAt: 2025-10-24 15:25:53 -0400 (Fri, 24 Oct 2025) EndedAt: 2025-10-24 15:27:28 -0400 (Fri, 24 Oct 2025) EllapsedTime: 94.7 seconds RetCode: 0 Status: OK