Package: Rarr Version: 1.9.18 Command: /Library/Frameworks/R.framework/Resources/bin/R CMD build --keep-empty-dirs --no-resave-data Rarr StartedAt: 2025-10-24 18:23:29 -0400 (Fri, 24 Oct 2025) EndedAt: 2025-10-24 18:25:16 -0400 (Fri, 24 Oct 2025) EllapsedTime: 107.4 seconds RetCode: 0 Status: OK PackageFile: Rarr_1.9.18.tar.gz PackageFileSize: 1.44 MiB