Package: Rarr Version: 1.9.18 Command: rm -rf Rarr.buildbin-libdir && mkdir Rarr.buildbin-libdir && /Users/biocbuild/BBS/utils/build-universal.sh Rarr_1.9.18.tar.gz /Library/Frameworks/R.framework/Resources/bin/R Rarr.buildbin-libdir StartedAt: 2025-10-25 01:57:52 -0400 (Sat, 25 Oct 2025) EndedAt: 2025-10-25 01:59:33 -0400 (Sat, 25 Oct 2025) EllapsedTime: 100.3 seconds RetCode: 0 Status: OK PackageFile: Rarr_1.9.18.tgz PackageFileSize: 1.572 MiB