Package: Rarr Version: 1.9.16 Command: /Library/Frameworks/R.framework/Resources/bin/R CMD INSTALL Rarr StartedAt: 2025-10-03 15:08:18 -0400 (Fri, 03 Oct 2025) EndedAt: 2025-10-03 15:08:38 -0400 (Fri, 03 Oct 2025) EllapsedTime: 20.1 seconds RetCode: 0 Status: OK