Package: Rarr Version: 1.9.16 Command: /Library/Frameworks/R.framework/Resources/bin/R CMD build --keep-empty-dirs --no-resave-data Rarr StartedAt: 2025-10-03 17:25:50 -0400 (Fri, 03 Oct 2025) EndedAt: 2025-10-03 17:26:25 -0400 (Fri, 03 Oct 2025) EllapsedTime: 35.4 seconds RetCode: 1 Status: ERROR PackageFile: None PackageFileSize: NA