Package: RareVariantVis Version: 2.37.0 Command: /home/biocbuild/R/R/bin/R CMD INSTALL RareVariantVis StartedAt: 2025-10-16 22:25:52 -0000 (Thu, 16 Oct 2025) EndedAt: 2025-10-16 22:26:55 -0000 (Thu, 16 Oct 2025) EllapsedTime: 63.3 seconds RetCode: 0 Status: OK