Package: RareVariantVis Version: 2.37.0 Command: /home/biocbuild/R/R/bin/R CMD build --keep-empty-dirs --no-resave-data RareVariantVis StartedAt: 2025-10-17 03:49:11 -0000 (Fri, 17 Oct 2025) EndedAt: 2025-10-17 03:50:14 -0000 (Fri, 17 Oct 2025) EllapsedTime: 63.0 seconds RetCode: 0 Status: OK PackageFile: RareVariantVis_2.37.0.tar.gz PackageFileSize: 2.751 MiB