Package: RareVariantVis Version: 2.39.0 Command: /home/biocbuild/bbs-3.23-bioc/R/bin/R CMD INSTALL RareVariantVis StartedAt: 2025-11-04 15:58:29 -0500 (Tue, 04 Nov 2025) EndedAt: 2025-11-04 15:59:15 -0500 (Tue, 04 Nov 2025) EllapsedTime: 45.8 seconds RetCode: 0 Status: OK