Package: RareVariantVis Version: 2.39.0 Command: /home/biocbuild/bbs-3.23-bioc/R/bin/R CMD build --keep-empty-dirs --no-resave-data RareVariantVis StartedAt: 2025-11-04 19:23:52 -0500 (Tue, 04 Nov 2025) EndedAt: 2025-11-04 19:24:41 -0500 (Tue, 04 Nov 2025) EllapsedTime: 49.0 seconds RetCode: 0 Status: OK PackageFile: RareVariantVis_2.39.0.tar.gz PackageFileSize: 2.756 MiB