Package: RankProd Version: 3.35.0 Command: /home/biocbuild/R/R/bin/R CMD INSTALL RankProd StartedAt: 2025-10-06 20:11:21 -0000 (Mon, 06 Oct 2025) EndedAt: 2025-10-06 20:11:55 -0000 (Mon, 06 Oct 2025) EllapsedTime: 33.9 seconds RetCode: 0 Status: OK