Package: RankProd Version: 3.35.0 Command: /home/biocbuild/bbs-3.22-bioc/R/bin/R CMD check --install=check:RankProd.install-out.txt --library=/home/biocbuild/bbs-3.22-bioc/R/site-library --timings RankProd_3.35.0.tar.gz StartedAt: 2025-10-04 03:14:40 -0400 (Sat, 04 Oct 2025) EndedAt: 2025-10-04 03:15:24 -0400 (Sat, 04 Oct 2025) EllapsedTime: 44.1 seconds RetCode: 0 Status: OK CheckDir: RankProd.Rcheck Warnings: 0