Package: RankProd Version: 3.37.0 Command: /home/biocbuild/bbs-3.23-bioc/R/bin/R CMD INSTALL RankProd StartedAt: 2025-11-20 15:03:36 -0500 (Thu, 20 Nov 2025) EndedAt: 2025-11-20 15:03:55 -0500 (Thu, 20 Nov 2025) EllapsedTime: 19.9 seconds RetCode: 0 Status: OK