Package: RankProd Version: 3.37.0 Command: /home/biocbuild/bbs-3.23-bioc/R/bin/R CMD check --install=check:RankProd.install-out.txt --library=/home/biocbuild/bbs-3.23-bioc/R/site-library --timings RankProd_3.37.0.tar.gz StartedAt: 2025-11-22 03:00:50 -0500 (Sat, 22 Nov 2025) EndedAt: 2025-11-22 03:01:34 -0500 (Sat, 22 Nov 2025) EllapsedTime: 44.1 seconds RetCode: 0 Status: OK CheckDir: RankProd.Rcheck Warnings: 0