Package: RaggedExperiment Version: 1.35.0 Command: /home/biocbuild/bbs-3.23-bioc/R/bin/R CMD build --keep-empty-dirs --no-resave-data RaggedExperiment StartedAt: 2025-11-04 19:22:47 -0500 (Tue, 04 Nov 2025) EndedAt: 2025-11-04 19:23:22 -0500 (Tue, 04 Nov 2025) EllapsedTime: 35.0 seconds RetCode: 0 Status: OK PackageFile: RaggedExperiment_1.35.0.tar.gz PackageFileSize: 670.3 KiB