Package: RaggedExperiment Version: 1.33.7 Command: /Library/Frameworks/R.framework/Resources/bin/R CMD INSTALL RaggedExperiment StartedAt: 2025-10-13 15:21:23 -0400 (Mon, 13 Oct 2025) EndedAt: 2025-10-13 15:21:57 -0400 (Mon, 13 Oct 2025) EllapsedTime: 34.0 seconds RetCode: 0 Status: OK