Package: RaggedExperiment Version: 1.33.7 Command: /Library/Frameworks/R.framework/Resources/bin/R CMD build --keep-empty-dirs --no-resave-data RaggedExperiment StartedAt: 2025-10-13 18:55:21 -0400 (Mon, 13 Oct 2025) EndedAt: 2025-10-13 18:56:19 -0400 (Mon, 13 Oct 2025) EllapsedTime: 57.5 seconds RetCode: 0 Status: OK PackageFile: RaggedExperiment_1.33.7.tar.gz PackageFileSize: 670.1 KiB