Package: RaggedExperiment Version: 1.33.7 Command: rm -rf RaggedExperiment.buildbin-libdir && mkdir RaggedExperiment.buildbin-libdir && /Users/biocbuild/BBS/utils/build-universal.sh RaggedExperiment_1.33.7.tar.gz /Library/Frameworks/R.framework/Resources/bin/R RaggedExperiment.buildbin-libdir StartedAt: 2025-10-14 03:01:49 -0400 (Tue, 14 Oct 2025) EndedAt: 2025-10-14 03:02:26 -0400 (Tue, 14 Oct 2025) EllapsedTime: 37.0 seconds RetCode: 0 Status: OK PackageFile: RaggedExperiment_1.33.7.tgz PackageFileSize: 1.195 MiB