Package: RadioGx Version: 2.15.0 Command: /home/biocbuild/bbs-3.23-bioc/R/bin/R CMD INSTALL RadioGx StartedAt: 2025-11-05 15:30:54 -0500 (Wed, 05 Nov 2025) EndedAt: 2025-11-05 15:31:32 -0500 (Wed, 05 Nov 2025) EllapsedTime: 38.1 seconds RetCode: 0 Status: OK