Package: RadioGx Version: 2.15.0 Command: /home/biocbuild/bbs-3.23-bioc/R/bin/R CMD build --keep-empty-dirs --no-resave-data RadioGx StartedAt: 2025-11-06 19:22:01 -0500 (Thu, 06 Nov 2025) EndedAt: 2025-11-06 19:22:54 -0500 (Thu, 06 Nov 2025) EllapsedTime: 53.0 seconds RetCode: 0 Status: OK PackageFile: RadioGx_2.15.0.tar.gz PackageFileSize: 2.765 MiB