Package: RadioGx Version: 2.13.0 Command: /Library/Frameworks/R.framework/Resources/bin/R CMD INSTALL RadioGx StartedAt: 2025-10-28 15:27:28 -0400 (Tue, 28 Oct 2025) EndedAt: 2025-10-28 15:28:20 -0400 (Tue, 28 Oct 2025) EllapsedTime: 52.1 seconds RetCode: 0 Status: OK