Package: RadioGx Version: 2.13.0 Command: /Library/Frameworks/R.framework/Resources/bin/R CMD INSTALL RadioGx StartedAt: 2025-10-12 15:14:52 -0400 (Sun, 12 Oct 2025) EndedAt: 2025-10-12 15:15:08 -0400 (Sun, 12 Oct 2025) EllapsedTime: 15.7 seconds RetCode: 0 Status: OK