Package: RadioGx Version: 2.13.0 Command: /Library/Frameworks/R.framework/Resources/bin/R CMD build --keep-empty-dirs --no-resave-data RadioGx StartedAt: 2025-10-12 17:22:59 -0400 (Sun, 12 Oct 2025) EndedAt: 2025-10-12 17:23:22 -0400 (Sun, 12 Oct 2025) EllapsedTime: 23.3 seconds RetCode: 0 Status: OK PackageFile: RadioGx_2.13.0.tar.gz PackageFileSize: 2.778 MiB