Package: RadioGx Version: 2.13.0 Command: rm -rf RadioGx.buildbin-libdir && mkdir RadioGx.buildbin-libdir && /Users/biocbuild/BBS/utils/build-universal.sh RadioGx_2.13.0.tar.gz /Library/Frameworks/R.framework/Resources/bin/R RadioGx.buildbin-libdir StartedAt: 2025-10-12 22:49:21 -0400 (Sun, 12 Oct 2025) EndedAt: 2025-10-12 22:49:37 -0400 (Sun, 12 Oct 2025) EllapsedTime: 16.4 seconds RetCode: 0 Status: OK PackageFile: RadioGx_2.13.0.tgz PackageFileSize: 4.219 MiB