Package: RVS Version: 1.33.0 Command: /home/biocbuild/bbs-3.23-bioc/R/bin/R CMD build --keep-empty-dirs --no-resave-data RVS StartedAt: 2025-11-20 19:45:48 -0500 (Thu, 20 Nov 2025) EndedAt: 2025-11-20 19:48:10 -0500 (Thu, 20 Nov 2025) EllapsedTime: 142.2 seconds RetCode: 0 Status: OK PackageFile: RVS_1.33.0.tar.gz PackageFileSize: 627.1 KiB