Package: RVS Version: 1.33.0 Command: /Library/Frameworks/R.framework/Resources/bin/R CMD build --keep-empty-dirs --no-resave-data RVS StartedAt: 2025-11-20 18:30:52 -0500 (Thu, 20 Nov 2025) EndedAt: 2025-11-20 18:33:38 -0500 (Thu, 20 Nov 2025) EllapsedTime: 166.0 seconds RetCode: 0 Status: OK PackageFile: RVS_1.33.0.tar.gz PackageFileSize: 569.9 KiB