Package: RVS Version: 1.31.0 Command: /Library/Frameworks/R.framework/Resources/bin/R CMD INSTALL RVS StartedAt: 2025-10-07 15:06:48 -0400 (Tue, 07 Oct 2025) EndedAt: 2025-10-07 15:06:52 -0400 (Tue, 07 Oct 2025) EllapsedTime: 4.0 seconds RetCode: 0 Status: OK