Package: RVS Version: 1.31.0 Command: rm -rf RVS.buildbin-libdir && mkdir RVS.buildbin-libdir && /Users/biocbuild/BBS/utils/build-universal.sh RVS_1.31.0.tar.gz /Library/Frameworks/R.framework/Resources/bin/R RVS.buildbin-libdir StartedAt: 2025-10-07 23:00:08 -0400 (Tue, 07 Oct 2025) EndedAt: 2025-10-07 23:00:13 -0400 (Tue, 07 Oct 2025) EllapsedTime: 5.1 seconds RetCode: 0 Status: OK PackageFile: RVS_1.31.0.tgz PackageFileSize: 694 KiB