Package: RUVnormalize Version: 1.43.0 Command: /home/biocbuild/R/R/bin/R CMD INSTALL RUVnormalize StartedAt: 2025-09-29 20:47:07 -0000 (Mon, 29 Sep 2025) EndedAt: 2025-09-29 20:47:13 -0000 (Mon, 29 Sep 2025) EllapsedTime: 6.1 seconds RetCode: 0 Status: OK