Package: RUVnormalize Version: 1.43.0 Command: /home/biocbuild/R/R/bin/R CMD build --keep-empty-dirs --no-resave-data RUVnormalize StartedAt: 2025-09-30 02:53:24 -0000 (Tue, 30 Sep 2025) EndedAt: 2025-09-30 02:53:41 -0000 (Tue, 30 Sep 2025) EllapsedTime: 17.0 seconds RetCode: 0 Status: OK PackageFile: RUVnormalize_1.43.0.tar.gz PackageFileSize: 186.9 KiB