Package: RUVnormalize Version: 1.45.0 Command: /home/biocbuild/bbs-3.23-bioc/R/bin/R CMD INSTALL RUVnormalize StartedAt: 2025-11-02 16:03:35 -0500 (Sun, 02 Nov 2025) EndedAt: 2025-11-02 16:03:38 -0500 (Sun, 02 Nov 2025) EllapsedTime: 3.2 seconds RetCode: 0 Status: OK