Package: RUVnormalize Version: 1.45.0 Command: /home/biocbuild/bbs-3.23-bioc/R/bin/R CMD check --install=check:RUVnormalize.install-out.txt --library=/home/biocbuild/bbs-3.23-bioc/R/site-library --timings RUVnormalize_1.45.0.tar.gz StartedAt: 2025-11-01 03:06:24 -0400 (Sat, 01 Nov 2025) EndedAt: 2025-11-01 03:07:06 -0400 (Sat, 01 Nov 2025) EllapsedTime: 42.0 seconds RetCode: 0 Status: OK CheckDir: RUVnormalize.Rcheck Warnings: 0