Package: RUVcorr Version: 1.41.0 Command: /home/biocbuild/R/R/bin/R CMD INSTALL RUVcorr StartedAt: 2025-10-20 20:24:27 -0000 (Mon, 20 Oct 2025) EndedAt: 2025-10-20 20:24:38 -0000 (Mon, 20 Oct 2025) EllapsedTime: 11.1 seconds RetCode: 0 Status: OK