Package: RUVcorr Version: 1.41.0 Command: /home/biocbuild/R/R/bin/R CMD build --keep-empty-dirs --no-resave-data RUVcorr StartedAt: 2025-10-21 02:43:17 -0000 (Tue, 21 Oct 2025) EndedAt: 2025-10-21 02:54:56 -0000 (Tue, 21 Oct 2025) EllapsedTime: 698.8 seconds RetCode: 0 Status: OK PackageFile: RUVcorr_1.41.0.tar.gz PackageFileSize: 245.1 KiB