Package: RUVcorr Version: 1.41.0 Command: /home/biocbuild/bbs-3.22-bioc/R/bin/R CMD check --install=check:RUVcorr.install-out.txt --library=/home/biocbuild/bbs-3.22-bioc/R/site-library --timings RUVcorr_1.41.0.tar.gz StartedAt: 2025-10-16 04:25:43 -0400 (Thu, 16 Oct 2025) EndedAt: 2025-10-16 04:27:09 -0400 (Thu, 16 Oct 2025) EllapsedTime: 85.1 seconds RetCode: 0 Status: WARNINGS CheckDir: RUVcorr.Rcheck Warnings: 1