Package: RUVcorr Version: 1.43.0 Command: /home/biocbuild/bbs-3.23-bioc/R/bin/R CMD INSTALL RUVcorr StartedAt: 2025-11-20 15:12:09 -0500 (Thu, 20 Nov 2025) EndedAt: 2025-11-20 15:12:14 -0500 (Thu, 20 Nov 2025) EllapsedTime: 4.9 seconds RetCode: 0 Status: OK