Package: RUVcorr Version: 1.43.0 Command: /home/biocbuild/bbs-3.23-bioc/R/bin/R CMD check --install=check:RUVcorr.install-out.txt --library=/home/biocbuild/bbs-3.23-bioc/R/site-library --timings RUVcorr_1.43.0.tar.gz StartedAt: 2025-11-22 03:27:07 -0500 (Sat, 22 Nov 2025) EndedAt: 2025-11-22 03:28:33 -0500 (Sat, 22 Nov 2025) EllapsedTime: 86.1 seconds RetCode: 0 Status: WARNINGS CheckDir: RUVcorr.Rcheck Warnings: 1