Package: RUVcorr Version: 1.43.0 Command: /home/biocbuild/bbs-3.23-bioc/R/bin/R CMD build --keep-empty-dirs --no-resave-data RUVcorr StartedAt: 2025-11-20 19:45:27 -0500 (Thu, 20 Nov 2025) EndedAt: 2025-11-20 19:46:12 -0500 (Thu, 20 Nov 2025) EllapsedTime: 45.1 seconds RetCode: 0 Status: OK PackageFile: RUVcorr_1.43.0.tar.gz PackageFileSize: 524.2 KiB