Package: RUVcorr Version: 1.41.0 Command: /Library/Frameworks/R.framework/Resources/bin/R CMD INSTALL RUVcorr StartedAt: 2025-09-29 15:13:24 -0400 (Mon, 29 Sep 2025) EndedAt: 2025-09-29 15:13:34 -0400 (Mon, 29 Sep 2025) EllapsedTime: 9.4 seconds RetCode: 0 Status: OK