Package: RUVSeq Version: 1.43.0 Command: /home/biocbuild/R/R/bin/R CMD build --keep-empty-dirs --no-resave-data RUVSeq StartedAt: 2025-10-17 04:12:21 -0000 (Fri, 17 Oct 2025) EndedAt: 2025-10-17 04:14:37 -0000 (Fri, 17 Oct 2025) EllapsedTime: 136.1 seconds RetCode: 0 Status: OK PackageFile: RUVSeq_1.43.0.tar.gz PackageFileSize: 362.5 KiB