Package: RUVSeq Version: 1.45.0 Command: /home/biocbuild/bbs-3.23-bioc/R/bin/R CMD INSTALL RUVSeq StartedAt: 2025-11-20 15:53:09 -0500 (Thu, 20 Nov 2025) EndedAt: 2025-11-20 15:53:49 -0500 (Thu, 20 Nov 2025) EllapsedTime: 40.0 seconds RetCode: 0 Status: OK