Package: RUVSeq Version: 1.45.0 Command: /home/biocbuild/bbs-3.23-bioc/R/bin/R CMD build --keep-empty-dirs --no-resave-data RUVSeq StartedAt: 2025-11-20 19:45:44 -0500 (Thu, 20 Nov 2025) EndedAt: 2025-11-20 19:47:19 -0500 (Thu, 20 Nov 2025) EllapsedTime: 95.2 seconds RetCode: 0 Status: OK PackageFile: RUVSeq_1.45.0.tar.gz PackageFileSize: 500.7 KiB