Package: RUCova Version: 1.3.0 Command: /home/biocbuild/bbs-3.23-bioc/R/bin/R CMD INSTALL RUCova StartedAt: 2025-11-20 15:22:16 -0500 (Thu, 20 Nov 2025) EndedAt: 2025-11-20 15:22:42 -0500 (Thu, 20 Nov 2025) EllapsedTime: 26.3 seconds RetCode: 0 Status: OK