Package: RUCova Version: 1.3.0 Command: /home/biocbuild/bbs-3.23-bioc/R/bin/R CMD build --keep-empty-dirs --no-resave-data RUCova StartedAt: 2025-11-20 19:45:04 -0500 (Thu, 20 Nov 2025) EndedAt: 2025-11-20 19:46:05 -0500 (Thu, 20 Nov 2025) EllapsedTime: 61.1 seconds RetCode: 0 Status: OK PackageFile: RUCova_1.3.0.tar.gz PackageFileSize: 5.425 MiB