Package: RUCova Version: 1.3.0 Command: /Library/Frameworks/R.framework/Resources/bin/R CMD INSTALL RUCova StartedAt: 2025-11-20 15:28:07 -0500 (Thu, 20 Nov 2025) EndedAt: 2025-11-20 15:28:43 -0500 (Thu, 20 Nov 2025) EllapsedTime: 35.7 seconds RetCode: 0 Status: OK