Package: RUCova Version: 1.3.0 Command: /Library/Frameworks/R.framework/Resources/bin/R CMD build --keep-empty-dirs --no-resave-data RUCova StartedAt: 2025-11-20 18:30:31 -0500 (Thu, 20 Nov 2025) EndedAt: 2025-11-20 18:31:40 -0500 (Thu, 20 Nov 2025) EllapsedTime: 68.7 seconds RetCode: 0 Status: OK PackageFile: RUCova_1.3.0.tar.gz PackageFileSize: 5.39 MiB