Package: RUCova Version: 1.3.0 Command: rm -rf RUCova.buildbin-libdir && mkdir RUCova.buildbin-libdir && /Users/biocbuild/BBS/utils/build-universal.sh RUCova_1.3.0.tar.gz /Library/Frameworks/R.framework/Resources/bin/R RUCova.buildbin-libdir StartedAt: 2025-11-21 01:54:17 -0500 (Fri, 21 Nov 2025) EndedAt: 2025-11-21 01:54:57 -0500 (Fri, 21 Nov 2025) EllapsedTime: 40.4 seconds RetCode: 0 Status: OK PackageFile: RUCova_1.3.0.tgz PackageFileSize: 5.401 MiB