Package: RUCova Version: 1.1.0 Command: /Library/Frameworks/R.framework/Resources/bin/R CMD build --keep-empty-dirs --no-resave-data RUCova StartedAt: 2025-10-14 17:35:10 -0400 (Tue, 14 Oct 2025) EndedAt: 2025-10-14 17:35:37 -0400 (Tue, 14 Oct 2025) EllapsedTime: 27.3 seconds RetCode: 0 Status: OK PackageFile: RUCova_1.1.0.tar.gz PackageFileSize: 5.391 MiB